BEGIN:VCALENDAR
VERSION:2.0
PRODID:-//KCL Liberal Democrats - ECPv6.15.13//NONSGML v1.0//EN
CALSCALE:GREGORIAN
METHOD:PUBLISH
X-WR-CALNAME:KCL Liberal Democrats
X-ORIGINAL-URL:https://www.kclld.co.uk
X-WR-CALDESC:Events for KCL Liberal Democrats
REFRESH-INTERVAL;VALUE=DURATION:PT1H
X-Robots-Tag:noindex
X-PUBLISHED-TTL:PT1H
BEGIN:VTIMEZONE
TZID:Europe/London
BEGIN:DAYLIGHT
TZOFFSETFROM:+0000
TZOFFSETTO:+0100
TZNAME:BST
DTSTART:20250330T010000
END:DAYLIGHT
BEGIN:STANDARD
TZOFFSETFROM:+0100
TZOFFSETTO:+0000
TZNAME:GMT
DTSTART:20251026T010000
END:STANDARD
BEGIN:DAYLIGHT
TZOFFSETFROM:+0000
TZOFFSETTO:+0100
TZNAME:BST
DTSTART:20260329T010000
END:DAYLIGHT
BEGIN:STANDARD
TZOFFSETFROM:+0100
TZOFFSETTO:+0000
TZNAME:GMT
DTSTART:20261025T010000
END:STANDARD
BEGIN:DAYLIGHT
TZOFFSETFROM:+0000
TZOFFSETTO:+0100
TZNAME:BST
DTSTART:20270328T010000
END:DAYLIGHT
BEGIN:STANDARD
TZOFFSETFROM:+0100
TZOFFSETTO:+0000
TZNAME:GMT
DTSTART:20271031T010000
END:STANDARD
END:VTIMEZONE
BEGIN:VEVENT
DTSTART;TZID=Europe/London:20260206T190000
DTEND;TZID=Europe/London:20260206T210000
DTSTAMP:20260422T025610
CREATED:20260202T104500Z
LAST-MODIFIED:20260202T105042Z
UID:398-1770404400-1770411600@www.kclld.co.uk
SUMMARY:Open Mic Fundraiser - With KCL PolSoc and KCLInternationalRelations
DESCRIPTION:
URL:https://www.kclld.co.uk/event/open-mic-fundraiser-with-kcl-polsoc-and-kclinternationalrelations/
LOCATION:The Gold Bar – Colab Tower\, London\, SE1 9HB
END:VEVENT
BEGIN:VEVENT
DTSTART;TZID=Europe/London:20260130T190000
DTEND;TZID=Europe/London:20260130T220000
DTSTAMP:20260422T025610
CREATED:20260125T122905Z
LAST-MODIFIED:20260125T122905Z
UID:392-1769799600-1769810400@www.kclld.co.uk
SUMMARY:NLC Trip
DESCRIPTION:
URL:https://www.kclld.co.uk/event/nlc-trip/
LOCATION:National Liberal Club
END:VEVENT
END:VCALENDAR